BEGIN:VCALENDAR
VERSION:2.0
PRODID:-//CoEHAR - ECPv6.15.20//NONSGML v1.0//EN
CALSCALE:GREGORIAN
METHOD:PUBLISH
X-WR-CALNAME:CoEHAR
X-ORIGINAL-URL:https://www.coehar.it
X-WR-CALDESC:Eventi per CoEHAR
REFRESH-INTERVAL;VALUE=DURATION:PT1H
X-Robots-Tag:noindex
X-PUBLISHED-TTL:PT1H
BEGIN:VTIMEZONE
TZID:Australia/Sydney
BEGIN:STANDARD
TZOFFSETFROM:+1100
TZOFFSETTO:+1000
TZNAME:AEST
DTSTART:20210403T160000
END:STANDARD
BEGIN:DAYLIGHT
TZOFFSETFROM:+1000
TZOFFSETTO:+1100
TZNAME:AEDT
DTSTART:20211002T160000
END:DAYLIGHT
BEGIN:STANDARD
TZOFFSETFROM:+1100
TZOFFSETTO:+1000
TZNAME:AEST
DTSTART:20220402T160000
END:STANDARD
BEGIN:DAYLIGHT
TZOFFSETFROM:+1000
TZOFFSETTO:+1100
TZNAME:AEDT
DTSTART:20221001T160000
END:DAYLIGHT
BEGIN:STANDARD
TZOFFSETFROM:+1100
TZOFFSETTO:+1000
TZNAME:AEST
DTSTART:20230401T160000
END:STANDARD
BEGIN:DAYLIGHT
TZOFFSETFROM:+1000
TZOFFSETTO:+1100
TZNAME:AEDT
DTSTART:20230930T160000
END:DAYLIGHT
END:VTIMEZONE
BEGIN:VTIMEZONE
TZID:Europe/Rome
BEGIN:DAYLIGHT
TZOFFSETFROM:+0100
TZOFFSETTO:+0200
TZNAME:CEST
DTSTART:20210328T010000
END:DAYLIGHT
BEGIN:STANDARD
TZOFFSETFROM:+0200
TZOFFSETTO:+0100
TZNAME:CET
DTSTART:20211031T010000
END:STANDARD
BEGIN:DAYLIGHT
TZOFFSETFROM:+0100
TZOFFSETTO:+0200
TZNAME:CEST
DTSTART:20220327T010000
END:DAYLIGHT
BEGIN:STANDARD
TZOFFSETFROM:+0200
TZOFFSETTO:+0100
TZNAME:CET
DTSTART:20221030T010000
END:STANDARD
BEGIN:DAYLIGHT
TZOFFSETFROM:+0100
TZOFFSETTO:+0200
TZNAME:CEST
DTSTART:20230326T010000
END:DAYLIGHT
BEGIN:STANDARD
TZOFFSETFROM:+0200
TZOFFSETTO:+0100
TZNAME:CET
DTSTART:20231029T010000
END:STANDARD
END:VTIMEZONE
BEGIN:VEVENT
DTSTART;TZID=Australia/Sydney:20221124T050000
DTEND;TZID=Australia/Sydney:20221124T060000
DTSTAMP:20260421T104715
CREATED:20221123T151913Z
LAST-MODIFIED:20221123T151913Z
UID:18960-1669266000-1669269600@www.coehar.it
SUMMARY:Raggiungere la liberazione dal fumo: come possiamo migliorare il trattamento per la cessazione del fumo?
DESCRIPTION:Questo webinar analizzerà l’offerta di trattamenti per smettere di fumare\, comprese le sigarette elettroniche\, nel contesto delle cure primarie.
URL:https://www.coehar.it/event/raggiungere-la-liberazione-dal-fumo-come-possiamo-migliorare-il-trattamento-per-la-cessazione-del-fumo/
CATEGORIES:Novembre 2022
ATTACH;FMTTYPE=image/jpeg:https://www.coehar.it/wp-content/uploads/2022/11/ndarc.jpg
END:VEVENT
BEGIN:VEVENT
DTSTART;VALUE=DATE:20221118
DTEND;VALUE=DATE:20221121
DTSTAMP:20260421T104715
CREATED:20220928T200020Z
LAST-MODIFIED:20220928T200020Z
UID:18967-1668729600-1668988799@www.coehar.it
SUMMARY:Conferenza internazionale sulla visione artificiale
DESCRIPTION:L’emergere della visione artificiale come piattaforma onnipresente per le innovazioni ha gettato le basi per la rapida crescita dell’informazione. Parallelamente\, l’uso di dispositivi mobili e wireless come PDA\, laptop e telefoni cellulari per accedere a Internet ha aperto la strada al fiorire di tecnologie correlate grazie ai recenti sviluppi. Inoltre\, la tecnologia di visione artificiale sta promuovendo una migliore integrazione del mondo digitale con l’ambiente fisico. Questa conferenza serve a promuovere la comunicazione tra ricercatori e professionisti che lavorano in un’ampia varietà di aree scientifiche con un interesse comune nel miglioramento delle tecniche legate alla Machine Vision.    \nSono richiesti lavori originali e di alta qualità in tutte le aree della visione artificiale. Il programma finale sarà il risultato di un processo di revisione altamente selettivo\, progettato per includere i migliori lavori del genere in ogni categoria. Il programma comprenderà conferenze su invito e presentazioni orali e di poster di articoli sottoposti a revisione.
URL:https://www.coehar.it/event/conferenza-internazionale-sulla-visione-artificiale/
LOCATION:Rome\, Rome\, Italy
CATEGORIES:Novembre 2022
ATTACH;FMTTYPE=image/jpeg:https://www.coehar.it/wp-content/uploads/2022/09/icmv.jpeg
END:VEVENT
BEGIN:VEVENT
DTSTART;VALUE=DATE:20221118
DTEND;VALUE=DATE:20221119
DTSTAMP:20260421T104715
CREATED:20220715T075540Z
LAST-MODIFIED:20220715T075540Z
UID:18982-1668729600-1668815999@www.coehar.it
SUMMARY:Vertice Ecigarett 2022
DESCRIPTION:Il Summit sulla sigaretta elettronica ha un unico obiettivo: facilitare un dialogo rispettoso e un’analisi ponderata della scienza da parte dei principali esperti mondiali indipendenti e fornire una piattaforma neutrale per esplorare come le prove dovrebbero essere interpretate per fornire le strategie sanitarie più efficaci per porre fine alla morte e alle malattie legate al fumo. Non vediamo l’ora di festeggiare con te il nostro 10° anniversario a novembre.
URL:https://www.coehar.it/event/vertice-ecigarett-2022/
LOCATION:London\, London\, United Kingdom
CATEGORIES:Novembre 2022
ATTACH;FMTTYPE=image/jpeg:https://www.coehar.it/wp-content/uploads/2022/07/ecigarette-summit.jpeg
END:VEVENT
BEGIN:VEVENT
DTSTART;VALUE=DATE:20221105
DTEND;VALUE=DATE:20221108
DTSTAMP:20260421T104715
CREATED:20220808T101909Z
LAST-MODIFIED:20220808T101909Z
UID:18983-1667606400-1667865599@www.coehar.it
SUMMARY:XXIII Congresso Nazionale della Pneumologia SIP-IRS
DESCRIPTION:Il programma scientifico del XXIII Congresso Nazionale di Pneumologia si svolge nella Sala Plenaria e non è accreditato ECM. Per tutti i professionisti che non hanno la possibilità di recarsi al congresso\, è possibile sintonizzarsi sulle giornate di lavoro attraverso la diretta streaming disponibile sulla piattaforma Italian Respiratory Network https://irn.sipirs.it/ (se non sei già registrato\, puoi farlo gratuitamente).  \nAnche per questa edizione la filosofia del Congresso è la carta – libera!
URL:https://www.coehar.it/event/xxiii-congresso-nazionale-della-pneumologia-sip-irs/
LOCATION:Hotel Santa Tecla Palace\, Acireale\, Via Balestrate\, 100\, Acireale\, Catania\, 95024\, Italy
CATEGORIES:Novembre 2022
ATTACH;FMTTYPE=image/jpeg:https://www.coehar.it/wp-content/uploads/2022/08/congresso-nazionale-pneumologia.jpeg
END:VEVENT
BEGIN:VEVENT
DTSTART;VALUE=DATE:20221105
DTEND;VALUE=DATE:20221107
DTSTAMP:20260421T104715
CREATED:20220715T080658Z
LAST-MODIFIED:20220715T080658Z
UID:18984-1667606400-1667779199@www.coehar.it
SUMMARY:VapersCom 2022
DESCRIPTION:Il VapersCom 2022 sarà organizzato a Dortmund dal 5 al 6 novembre. Per saperne di più: https://www.vaperscom.de/en/start/
URL:https://www.coehar.it/event/vaperscom-2022/
LOCATION:Dortmund\, Dortmund\, Germany
CATEGORIES:Novembre 2022
ATTACH;FMTTYPE=image/png:https://www.coehar.it/wp-content/uploads/2022/07/Vaperscom_logo_transparent.png
END:VEVENT
END:VCALENDAR